BEGIN:VCALENDAR
VERSION:2.0
PRODID:-//Álfhólsskóli - ECPv6.3.7//NONSGML v1.0//EN
CALSCALE:GREGORIAN
METHOD:PUBLISH
X-ORIGINAL-URL:https://alfholsskoli.is
X-WR-CALDESC:Events for Álfhólsskóli
REFRESH-INTERVAL;VALUE=DURATION:PT1H
X-Robots-Tag:noindex
X-PUBLISHED-TTL:PT1H
BEGIN:VTIMEZONE
TZID:UTC
BEGIN:STANDARD
TZOFFSETFROM:+0000
TZOFFSETTO:+0000
TZNAME:UTC
DTSTART:20170101T000000
END:STANDARD
END:VTIMEZONE
BEGIN:VEVENT
DTSTART;VALUE=DATE:20171219
DTEND;VALUE=DATE:20171220
DTSTAMP:20260422T170435
CREATED:20171219T140948Z
LAST-MODIFIED:20171219T140948Z
UID:3087-1513641600-1513727999@alfholsskoli.is
SUMMARY:Jólaball unglingastigs
DESCRIPTION:Mæting í stofur hjá umsjónarkennara kl. 19 stundvíslega
URL:https://alfholsskoli.is/vidburdur/jolaball-unglingastigs/
END:VEVENT
END:VCALENDAR